BEGIN:VCALENDAR
VERSION:2.0
CALSCALE:GREGORIAN
PRODID:-//MyApp//Calendar 1.0//EN
BEGIN:VEVENT
METHOD:PUBLISH
UID:32483@regionalniportaly.cz
DTSTAMP:20260425T131329Z
DTSTART;VALUE=DATE:20230519
DTEND;VALUE=DATE:20230521
SUMMARY:29. Slavnosti chřestu a vína 2023
DESCRIPTION:O víkendu 19. – 21. května 2023 proběhne v Ivančicích již 29. ročník Slavností chřestu a vína.Kromě snoubení vína a chřestových specialit se můžete těšit na hudební program\, program pro děti\, potravinový a řemeslný trh a prodej čerstvého chřestu.
LOCATION:Ivančice
END:VEVENT
END:VCALENDAR