BEGIN:VCALENDAR
VERSION:2.0
CALSCALE:GREGORIAN
PRODID:-//MyApp//Calendar 1.0//EN
BEGIN:VEVENT
METHOD:PUBLISH
UID:32509@regionalniportaly.cz
DTSTAMP:20260425T131437Z
DTSTART;VALUE=DATE:20230520
DTEND;VALUE=DATE:20230521
SUMMARY:Beauty day
DESCRIPTION:Dopřejte si čas pro sebe a nechte se hýčkat týmem tří sympatickýchžen\, které se vám budou věnovat v oblasti péče o pleť a relaxace\,líčení a focení. A to vše propojené květinami\, protože pečující&nbsp\;kosmetika Inlight a dekorativní Zuii Organic jsou vyráběny z květů\,bylin a olejů. Květinami budete opečovány od začátku až do konce amůžete se těšit i na tématické občerstvení\, růžové prosecco nebolevandulovou kávu a hodnotné bio dárky.Inlight Relax s Helčou ~ 40 min.Relaxační ošetření obličeje a rukou\, které vám poskytne hloubkovéčištění pleti a rozproudění lymfy v obličeji. Díky super-food nebočokoládové masce získáte rozzářenou pleť a masáž rukou navodí pocitklidu a pohody. Na závěr vás omámí svou vanilkovou vůní pečující denníolej. Péče je prováděna 100% bio kosmetikou Inlight a zažijete 5 z TOPproduktů. Čistící balzám\, super-food/čokoládová maska\, květinovétonikum\, denní olej a tělový olej s arnikou/tělové máslo. Poradenství\,jaké produkty jsou pro vás nejvhodnější a jejich použití\, jesamozřejmostí.Líčení Zuii Organic s Domčou ~ 40 min.Nevíte si rady se správným odstínem make-upu nebo pudru\, který je provás nejlepší? Nejste si jisté\, zda se líčení hodí k vašemu věkunebo typu osobnosti? Jak vypadat přirozeně a nestrávit líčením spoustyčasu vám ukáže vizážistka Domča. Pomůže s výběrem vhodných odstínůprávě pro vás\, správné použití produktů\, jejich vrstvení a tipy naminimalismus - jak mohu jedním produktem nalíčit více partií. To vše sbio dekorativní kosmetikou Zuii Organic.Focení se Soňou ~ 40 min.Už jste zrelaxovaná\, spokojená a krásně nalíčená? Jak nejlépe zakončitčas pro sebe než fotoportrétem od profesionální fotografky Soni třebaněžnou fotkou s květinami. Popravdě se zamyslete\, kolik máte hezkýchfotografií třeba na profilovku nebo když ji honem potřebujete k nějaképříležitosti\, ale neměly jste odvahu si domluvit soukromé focení. Teďje ta pravá chvíle. Nebudeme vás k ničemu nutit\, ale vyzkoušejte si\,jaké je být hvězdou před hledáčkem objektivu alespoň na chvilku. Pokudvás teď napadlo: "Ale co vlasy?"&nbsp\;tak se o vás postaráme kompletně - lehkouúpravou\, aby jste byly spokojené. V balíčku je 1 retušovanáfotografie\, další fotky nad rámec balíčku 150 Kč/foto.&nbsp\;
LOCATION:Zastávka
END:VEVENT
END:VCALENDAR