BEGIN:VCALENDAR
VERSION:2.0
CALSCALE:GREGORIAN
PRODID:-//MyApp//Calendar 1.0//EN
BEGIN:VEVENT
METHOD:PUBLISH
UID:32704@regionalniportaly.cz
DTSTAMP:20260425T115229Z
DTSTART;VALUE=DATE:20230519
DTEND;VALUE=DATE:20230521
SUMMARY:Slavnosti chřestu a vína v Ivančicích
DESCRIPTION:Lahodná menu regionálních restaurací. Moravská vinařství. To vše spojené kuchařskou show\, duely vína a jídla a nabitým doprovodným programem na Slavnostech chřestu a vína v Ivančicích\, které se uskuteční už 19.-21. května 2023.\nSlavnosti chřestu však nejsou jen o ochutnávání dobrého jídla a vína. Načerpat můžete také spoustu inspirace\, jak si chřest upravit doma\, a to během kuchařských show\, letos v podání Petra Stupky\, Mirka Kaliny\, Markéty Hrubešové a Honzy Vorla. WinePoint pak přímo v gastrozóně nabízí degustaci vynikajících moravských vín nasnoubených k pokrmům festivalových restaurací.\nCo by to ale bylo za slavnost bez zábavy\, hudby a dalšího kulturního programu?\nV pátek bude naše pódium patřit už tradičně především místním školám a spolkům\, a také netradiční cimbálovce Midnight Coffee Session.\nV sobotu nás čekají pecky jako Michal Hrůza a Kapela Hrůzy\, cimbálová hudba Musica Moravica\, pop-funková kapela I.V.M a další.\nV neděli pak převezme mikrofon cimbálová hudba LH za oponou\, dechová hudba Vlčnovjanka\, multižánrová kapela The People nebo známý písničkář Michal Horák.\nNa své si přijdou i děti\, na pódiu bude řádit Fíha Tralala. Malí návštěvníci si v sobotu i neděli užijí hned několik divadelních představení Divadla Studna a Divadla eMILLIon\, spoustu her a zábavy na nádvoří radnice\, a také na výstavu drobného zvířectva v průjezdu k Základní umělecké škole.\nRegionálníPortály.cz jsou mediálním partnerem akce.
LOCATION:Ivančice
END:VEVENT
END:VCALENDAR