BEGIN:VCALENDAR
VERSION:2.0
CALSCALE:GREGORIAN
PRODID:-//MyApp//Calendar 1.0//EN
BEGIN:VEVENT
METHOD:PUBLISH
UID:32987@regionalniportaly.cz
DTSTAMP:20260425T131351Z
DTSTART;VALUE=DATE:20230512
DTEND;VALUE=DATE:20230513
SUMMARY:Život pro samouky
DESCRIPTION:
LOCATION:Zbýšov
END:VEVENT
END:VCALENDAR