BEGIN:VCALENDAR
VERSION:2.0
CALSCALE:GREGORIAN
PRODID:-//MyApp//Calendar 1.0//EN
BEGIN:VEVENT
METHOD:PUBLISH
UID:33071@regionalniportaly.cz
DTSTAMP:20260422T063853Z
DTSTART;VALUE=DATE:20230622
DTEND;VALUE=DATE:20230623
SUMMARY:ZÁVIŠ a přátelé
DESCRIPTION:Koncert Knížete pornofolku Záviš&nbsp\;a přátelé v zámeckém parku v Oslavanech.Autogramiáda\, prodej CD a triček.&nbsp\;
LOCATION:Oslavany
END:VEVENT
END:VCALENDAR