BEGIN:VCALENDAR
VERSION:2.0
CALSCALE:GREGORIAN
PRODID:-//MyApp//Calendar 1.0//EN
BEGIN:VEVENT
METHOD:PUBLISH
UID:33082@regionalniportaly.cz
DTSTAMP:20260425T145947Z
DTSTART;VALUE=DATE:20230620
DTEND;VALUE=DATE:20230621
SUMMARY:Concentus Moraviae - koncert v Besedním domě
DESCRIPTION:CONCENTUS MORAVIAE 20. 6. 2023 V 19.30 v Besedním domě v Ivančicích\n \nZuzana Badárová / sopránIva Táborská / mezzosopránVojtěch Šembera / barytonMartina Janková / cembaloDanilo Mascetti / cembalo\n \nNicola Porpora: Il martirio di S. Giovanni Nepomuceno (výběr)Johann Adolph Hasse: Didone Abbandondonata (výběr) / La contadina (výběr)Joseph Haydn: Sonáta A dur / Arianna a Naxos\n \nPětice geniálních moravsko-italských mladých hudebníků se vydává na dobrodružnou cestu spojující jejich vlasti. Na pouti potkají hudebního osla a připojí se k boji Ariadny a Didony za ženská práva. Kde najdou zastání? Oporou jim může být český hrdina Jan Nepomucký…\n \nCena vstupenek: 200 Kč / 100 Kč \nVstupenky je možno zakoupit online zde nebo osobně v KIC Ivančice.
LOCATION:Ivančice
END:VEVENT
END:VCALENDAR