BEGIN:VCALENDAR
VERSION:2.0
CALSCALE:GREGORIAN
PRODID:-//MyApp//Calendar 1.0//EN
BEGIN:VEVENT
METHOD:PUBLISH
UID:33161@regionalniportaly.cz
DTSTAMP:20260425T162526Z
DTSTART;VALUE=DATE:20230609
DTEND;VALUE=DATE:20230610
SUMMARY:Concentus Moraviae - Melánie Flores
DESCRIPTION:Concentus Moraviae - 9. 6. 2023 v 19.30 v Kostele sv. Petra a Pavla v Řeznovicích\nMelanie Flores / cembalo\n \nProgram:Johann Jacob Froberger: Toccata III / Suite en doAlessandro Poglietti: Imitatione del med[esi]mo Uccello / Toccatina sopra la ribellione di UngheriaGeorg Muffat: Toccata OttavaGottlieb Muffat: CiaconaJohann Sebastian Bach: Cappriccio sopra la lontananza dell bratro dilettissimo / Lamento na odchod milovaného bratra BWV 992\n \nSvoboda a osobitostCharismatická mexická cembalistka Mélanie Flores\, loňská finalistka prestižní soutěže Johann-Sebastian-Bach Wetteberb v Lipsku\, vystudovala slavnou akademii Schola Cantorum Basiliensis. V jejím programu sestaveném exkluzivně pro letošní festival poznáme\, co všechno skladatelé z habsburské monarchie dokázali sdělit skrze zvuk cembala: pozdraví nás mladý Bach zarmoucený z bratrova odchodu do ciziny. Alessandra Pogliettiho\, Itala působícího na vídeňském dvoře\, navštívíme v jeho domě na Moravě a poslechneme si jeho hudební imitaci slavíka i portrét maďarské revoluce. Svobodomyslní muži byli i Froberger\, kterého z vídeňského dvora vyhodili z neznámých důvodů\, a Georg Muffat\, který studoval u francouzských a italských konkurenčních hvězd své doby. Devizami skladatelů\, s nimiž se v tomto programu můžeme aspoň virtuálně setkat\, jsou svoboda a osobitost!\n \n \nCena vstupenek: 200 Kč / 100 Kč \nVstupenky online k zakoupení zde\, osobně v KIC Ivančice.
LOCATION:Ivančice
END:VEVENT
END:VCALENDAR