BEGIN:VCALENDAR
VERSION:2.0
CALSCALE:GREGORIAN
PRODID:-//MyApp//Calendar 1.0//EN
BEGIN:VEVENT
METHOD:PUBLISH
UID:46356@regionalniportaly.cz
DTSTAMP:20260422T150452Z
DTSTART;VALUE=DATE:20250307
DTEND;VALUE=DATE:20250308
SUMMARY:SCREAMERS: Ta umí to a ten zas tohle
DESCRIPTION:Stolová úprava s možností konzumace - vstupenky nejsou číslovány. Rezervace ke stolům možná na tel. 777 451 251 (pí. Solařová)Show legendární travesti-divadelní skupiny Screamers\, nabitá tancem\, skeči\, chytlavými písničkami\, výpravnými kostýmy a hlavně humorem. Přesvědčte se sami\, že není práce bez legrace a každá profese nabízí mnoho důvodů k dobré zábavě!
LOCATION:Mělčany
END:VEVENT
END:VCALENDAR