BEGIN:VCALENDAR
VERSION:2.0
CALSCALE:GREGORIAN
PRODID:-//MyApp//Calendar 1.0//EN
BEGIN:VEVENT
METHOD:PUBLISH
UID:47185@regionalniportaly.cz
DTSTAMP:20260422T225108Z
DTSTART;VALUE=DATE:20241028
DTEND;VALUE=DATE:20241029
SUMMARY:📢 Podzimní slavnost Permonických skřítků
DESCRIPTION:Přijďte si užít den plný zábavy s celou rodinou do zábavního parku Permonium® nebo Permoniště a zažijte kouzelnou podzimní atmosféru s tématem lesních zvířátek. 🧙‍♂️🌲\n \n🗓 Program pro děti:\n10:00–18:00 Hra pro děti „Dobrodružství lesních zvířátek“ 🦊 v areálu parků Permonium® a Permoniště\n11:00–15:00 Podzimní zvířátková dílna 🎨\n13:00–15:00 Veselé malování na obličej 🖌\n15:15–16:00 Skřítkování se zvířátky 🐿 – tanečky a písničky s tvořením\n \nPermonium® venkovní park se vstupem do Těžní věže\, trasa pro děti 6 - 10 let\, vstupenky na místě\, bez časového omezení.\n \nPermoniště vnitřní park se vstupem do Těžní věže\, trasa pro děti 3 - 8 let\, kapacita omezena\, vstupenky pouze ONLINE na konkrétní časový interval 120 min.\n \n📸 Nezapomeňte se zastavit v zábavném fotokoutku v Těžní věži. Rodiče zveme na podzimní kávové speciály a další horké nápoje v Těžní věži nebo Bistru v Permoništi! ☕🍰\n \nParky Permonium® a Permoniště otevřeny 10:00 - 18:00 hod. Program zdarma v rámci běžného vstupného do parku Permonium® nebo Permoniště. Akce se koná za každého počasí. Změna programu vyhrazena. Sledujte aktuální informace.\n \nPřipravte se na den plný kouzelných zážitků! Těšíme se na vás!
LOCATION:Oslavany
END:VEVENT
END:VCALENDAR