BEGIN:VCALENDAR
VERSION:2.0
CALSCALE:GREGORIAN
PRODID:-//MyApp//Calendar 1.0//EN
BEGIN:VEVENT
METHOD:PUBLISH
UID:48127@regionalniportaly.cz
DTSTAMP:20260426T033337Z
DTSTART;VALUE=DATE:20250415
DTEND;VALUE=DATE:20250416
SUMMARY:Kecy & politika LIVE Ivančice
DESCRIPTION:Kecy a politika je podcast komentátora Bohumila Pečinky a Petrose Michopulose. Současná politika pohledem dvou rozdílných osobností\, kteří se nebojí říct své názory.&nbsp\;
LOCATION:Ivančice
END:VEVENT
END:VCALENDAR