BEGIN:VCALENDAR
VERSION:2.0
CALSCALE:GREGORIAN
PRODID:-//MyApp//Calendar 1.0//EN
BEGIN:VEVENT
METHOD:PUBLISH
UID:48297@regionalniportaly.cz
DTSTAMP:20260423T032432Z
DTSTART;VALUE=DATE:20241117
DTEND;VALUE=DATE:20241118
SUMMARY:Duchové v Permoništi
DESCRIPTION:Máte už víkendový plán? Pokud ne\, pro vás a vaše děti máme skvělý tip! Hravé hřiště Permoniště je otevřeno celý víkend a navíc v neděli speciální akce:\nDUCHOVÉ V PERMONIŠTI! Přijďte si užít strašidelnou zábavu s duchem Ducháčkem! KDY: Neděle 17. listopadu 2024 ČAS: 10:00 - 18:00 hod. (vstupy každé 2 hodiny) KDE: Zábavní park Permonium® - Vnitřní hřiště Permoniště\, Padochovská 31\, Oslavany\, Brno-venkov\n Na co se můžete těšit?- Dobrodružná stezka ducha Ducháčka- Dárek pro děti- Duchařská dílnička- Tematický fotokoutek\nPermoniště je ideální vnitřní park pro děti od 3 do 8 let. Kapacita je omezená\, proto doporučujeme zakoupit vstupenky online na konkrétní časový interval 120 minut.\nCeny vstupnéhoDěti: 220 Kč / 120 minDospělí: 120 Kč / 120 min\nTěšíme se na vás! Permonium team
LOCATION:Oslavany
END:VEVENT
END:VCALENDAR