BEGIN:VCALENDAR
VERSION:2.0
CALSCALE:GREGORIAN
PRODID:-//MyApp//Calendar 1.0//EN
BEGIN:VEVENT
METHOD:PUBLISH
UID:51787@regionalniportaly.cz
DTSTAMP:20260423T002958Z
DTSTART;VALUE=DATE:20250705
DTEND;VALUE=DATE:20250705
SUMMARY:Speciální prohlídka s majitelem hradu a ochutnávkou Dolnokounické Frankovky
DESCRIPTION:Dvouhodinová prohlídka hradu s jeho majitelem\, který Vás provede hradem a prostory\, které nejsou součástí běžných prohlídek. Návštěvník se seznámí jak s bohatou historií jednoho z nejstarších klášterních hradů u nás\, ale i s již opravenými a hojně využívanými prostory pro společenské akce. Budete se moci podívat na hrad očima jeho majitele\, seznámit se s jeho příběhem. Na závěr bude ve společenském sále bývalé hradní sýpky ochutnávka vyhlášené Dolnokounické Frankovky s možností jejího zakoupení.\nPOZOR PŮVODNÍ TERMÍN NEDĚLE 6.7. SE RUŠÍ. SOBOTA 5.7. PROHLÍDKA BUDE.
LOCATION:Dolní Kounice
END:VEVENT
END:VCALENDAR