BEGIN:VCALENDAR
VERSION:2.0
CALSCALE:GREGORIAN
PRODID:-//MyApp//Calendar 1.0//EN
BEGIN:VEVENT
METHOD:PUBLISH
UID:52025@regionalniportaly.cz
DTSTAMP:20260421T001152Z
DTSTART;VALUE=DATE:20250915
DTEND;VALUE=DATE:20250916
SUMMARY:Bezplatná právní poradna pro seniory a handicapované
DESCRIPTION:
LOCATION:Ivančice
END:VEVENT
END:VCALENDAR