BEGIN:VCALENDAR
VERSION:2.0
CALSCALE:GREGORIAN
PRODID:-//MyApp//Calendar 1.0//EN
BEGIN:VEVENT
METHOD:PUBLISH
UID:53452@regionalniportaly.cz
DTSTAMP:20260422T185820Z
DTSTART;VALUE=DATE:20250503
DTEND;VALUE=DATE:20250504
SUMMARY:Family Food Festival v Oslavanech
DESCRIPTION:Zámecký park v Oslavanech se opět promění v kulinářský ráj! Srdečně vás zveme na již třetí ročník Family Food Festivalu CZ\, který se uskuteční o víkendu 3. a 4. května 2025. Čeká vás dvoudenní hostina plná výborného jídla\, osvěžujících drinků\, živé hudby a skvělé atmosféry pro celou rodinu.\nV sobotu se festival otevře od 10:00 do 22:00 hod.\, v neděli pak od 10:00 do 19:00 hod.\nPřijďte ochutnat\, pobavit se a užít si skvělou atmosféru! Vstup je zdarma. Pro více informací sledujte Facebook akce.
LOCATION:Oslavany
END:VEVENT
END:VCALENDAR