BEGIN:VCALENDAR
VERSION:2.0
CALSCALE:GREGORIAN
PRODID:-//MyApp//Calendar 1.0//EN
BEGIN:VEVENT
METHOD:PUBLISH
UID:53527@regionalniportaly.cz
DTSTAMP:20260425T193907Z
DTSTART;VALUE=DATE:20251029
DTEND;VALUE=DATE:20251030
SUMMARY:Všechno je dovoleno - divadelní komedie v Ivančicích
DESCRIPTION:středa 29. 10. 2025 v 19.00 | Kino Réna Ivančice\nDivadelní komedie. Hrají: Ivo Šmoldas\, Michaela Kuklová\, Miluše Bittnerová\, Miroslav Šimůnek nebo Tomáš Krejčíř\nDva manželské páry\, které se vzájemně neznají\, čeká společná rodinná dovolená v Chorvatsku.\nProč rodinná? Protože syn prvního páru se rozhodl vzít si dceru druhého páru\, a tak je načase\, aby se jejich rodiče vzájemně seznámili. Snoubenci se rozhodli pro neutrální půdu jednoho ze vzdálených chorvatských ostrovů\, kde jim na týden pronajali nádherný bungalov.\nPředstava hladkého a nekonfliktního seznámení rodičovských párů však vezme rychle za své. Z jadranské idylky se rázem stává balkánské peklo a z laskavých rodičů jsou z ničeho nic novodobí Montekové a Kapuleti\, kteří jsou připraveni udělat všechno proto\, aby ke svatbě jejich potomků nikdy nedošlo.\nVstupné 460 Kč. Online předprodej od 27. 4. 2025 od 20.00 na www.kic.ivancice.cz. Osobní předprodej od 28. 4. 2025 od 9.00 v KIC Ivančice.
LOCATION:Ivančice
END:VEVENT
END:VCALENDAR