BEGIN:VCALENDAR
VERSION:2.0
CALSCALE:GREGORIAN
PRODID:-//MyApp//Calendar 1.0//EN
BEGIN:VEVENT
METHOD:PUBLISH
UID:53528@regionalniportaly.cz
DTSTAMP:20260425T192410Z
DTSTART;VALUE=DATE:20251119
DTEND;VALUE=DATE:20251120
SUMMARY:Na kus řeči - Miroslav Donutil v Ivančicích
DESCRIPTION:středa 19. 11. 2025 v 19:00 | Kino Réna Ivančice\nPro všechny\, kteří milují dobrý český humor\, jsme připravili opravdovou lahůdku! Populární český bavič a herec MIROSLAV DONUTIL přijede představit jednu ze svých one man show\, které mají vždy velký úspěch. Tentokrát to bude nejoblíbenější pořad Na kus řeči.\nMiroslav Donutil je jeden z nejznámějších a nejoblíbenějších českých herců\, komiků a vypravěčů. Za jeho talent jistě mohou i rodinné geny. Jeho rodiče byli ochotníky a dědeček byl vynikajícím a nadšeným vypravěčem. V divadle hrál již za studií\, konkrétně v divadle Husa na provázku. V roce 1990 se stal členem činohry souboru pražského Národního divadla.\n \nTalk show Na kus řeči… je vyprávění zážitků a příběhů z jeho bohatého života a života jeho přátel. Program se skládá z nových humorných příběhů\, tak se máte na co těšit!\nVstupné 550 Kč. Online předprodej od 27. 4. 2025 od 20.00 na www.kic.ivancice.cz. Osobní předprodej od 28. 4. 2025 od 9.00 v KIC Ivančice.
LOCATION:Ivančice
END:VEVENT
END:VCALENDAR