BEGIN:VCALENDAR
VERSION:2.0
CALSCALE:GREGORIAN
PRODID:-//MyApp//Calendar 1.0//EN
BEGIN:VEVENT
METHOD:PUBLISH
UID:55114@regionalniportaly.cz
DTSTAMP:20260425T203652Z
DTSTART;VALUE=DATE:20251231
DTEND;VALUE=DATE:20260101
SUMMARY:Láska\, sex\, žárlivost - ODPOLEDNÍ PŘEDSTAVENÍ V 15.00
DESCRIPTION:Láska\, sex\, žárlivost - ODPOLEDNÍ PŘEDSTAVENÍ V 15.00\nstředa 31. 12. 2025 v 15:00 | Kino Réna Ivančice\nDivadelní komedie. Hrají: Lucie Vojtová\, Ladislav Ondřej\, Daniela Šinkorová\, Kristýna Janáčková\, František Skopal\, Martin Davídek\nCo má udělat manžel\, který zjistí\, že ho jeho nevěrná manželka podvádí? Může svého soka zabít jako v romantických dobách. Může ho nechat zabít\, jak se to dělá v dnešní "akční době". Nebo mu může oplatit stejnou mincí: totiž na oplátku svést jeho věrnou ženu. V Camolettiho komedii Láska\, sex a žárlivost se setkáme se zápletkami důvěrně známými z vlastního manželství. Navíc budeme překvapeni\, jak mistrovsky se budou rozvíjet. Komedie plná italského temperamentu\, francouzského šarmu\, manželských nedorozumění a "rafinád"\, ale především spousta legrace k popukání. Přijďte si poslední den v roce zpříjemnit kulturou!\nVstupné: 600 Kč. Online předprodej od 8. 6. 2025 od 20.00 na www.kic.ivancice.cz. Osobní předprodej od 9. 6. 2025 od 9.00 v KIC Ivančice.
LOCATION:Ivančice
END:VEVENT
END:VCALENDAR