BEGIN:VCALENDAR
VERSION:2.0
CALSCALE:GREGORIAN
PRODID:-//MyApp//Calendar 1.0//EN
BEGIN:VEVENT
METHOD:PUBLISH
UID:55195@regionalniportaly.cz
DTSTAMP:20260426T033347Z
DTSTART;VALUE=DATE:20250705
DTEND;VALUE=DATE:20250706
SUMMARY:Jets over Czech Heaven
DESCRIPTION:Jets over Czech 2025 – Letecká show léta v Ivančicích!5. července 2025Modelářské letiště Czech Heaven - Ivančice - BudkoviceCelodenní program od 10:00 do podvečerních hodinZažijte den plný adrenalinu\, fascinujících výkonů a rodinné pohody na jedinečné letecké show Jets over Czech 2025! Na obloze se vystřídají špičkoví piloti\, modely proudových letadel a hlavně – světový šampion Martin Šonka\, který předvede své neuvěřitelné letecké umění přímo nad vašimi hlavami.⸻HOST– MARTIN ŠONKA!Red Bull Air Race šampion\, akrobatický pilot a bývalý vojenský stíhač se představí s dechberoucí leteckou akrobacií. Ostré přemety\, nízké průlety a precizní manévry – tohle není jen let\, to je adrenalinový zážitek!⸻Proudové modely jako ze stíhačkyUvidíte modely letadel s turbínovým pohonem\, které vypadají\, zní a létají jako skutečné stíhačky! Rychlost přes 400 km/h\, realistické zvuky\, manévrovací schopnosti a pilotáž na hranici možností. Letecký modelářský zážitek pro malé i velké fanoušky.⸻Program pro celou rodinuJets over Czech není jen pro nadšence do letadel – je to zábavný rodinný den\, kde si každý najde to své:&nbsp\;&nbsp\;&nbsp\;&nbsp\;•&nbsp\; &nbsp\; skákací hrady a atrakce pro děti&nbsp\;&nbsp\;&nbsp\;&nbsp\;•&nbsp\; &nbsp\; stánky s jídlem a nápoji&nbsp\;&nbsp\;&nbsp\;&nbsp\;•&nbsp\; &nbsp\; tematické stánky a suvenýry&nbsp\;&nbsp\;&nbsp\;&nbsp\;•&nbsp\; &nbsp\; celodenní moderovaný program&nbsp\; &nbsp\; •&nbsp\; &nbsp\; Old timer gallery - prohlídka automobilových veteránůa další.DO AREÁLU JE ZÁKAZ VSTUPU ZVÍŘATŮM.&nbsp\;⸻Nezapomeňte foťáky – a přijďte dřív\, ať máte dobré místo!Akce se koná pod širým nebem a je ideální i pro ty\, kteří chtějí spojit výlet s nezapomenutelným zážitkem. Ať už přijdete sami\, s partnerem\, nebo s celou rodinou – tahle show vás dostane.⸻Další informace a program najdete na&nbsp\;Sledujte nás na sociálních sítích#JetsOverCzech #MartinŠonka #LeteckáShow #RodinnýDen #JetModels
LOCATION:Ivančice
END:VEVENT
END:VCALENDAR