BEGIN:VCALENDAR
VERSION:2.0
CALSCALE:GREGORIAN
PRODID:-//MyApp//Calendar 1.0//EN
BEGIN:VEVENT
METHOD:PUBLISH
UID:56050@regionalniportaly.cz
DTSTAMP:20260423T003209Z
DTSTART;VALUE=DATE:20250712
DTEND;VALUE=DATE:20250713
SUMMARY:Tma v Permoniu pro rodiny s dětmi
DESCRIPTION: ZAŽIJTE ZÁBAVNÍ PARK PERMONIUM® JINAK!\nZveme vás na večerní dobrodružství - rodinnou hru plnou tajemství\, zábavy a napínavého příběhu v jedinečném prostředí zábavního parku Permonium® a Duhový svět s novou zápletkou!\n \nTMA V PERMONIU: ČASOSTROJ\nSobota 12. 7. 2025 | Začátek ve 20:00 (areál otevřen od 19:30)\nCena: 260 Kč/osoba | Každé dítě obdrží malý dárek. Doporučeno pro děti od 6 do 12 let\n \nCo vás čeká?\nPermonium® jako ho neznáte – v kouzelné večerní atmosféře\, s novým příběhem\, který vás vtáhne do světa čaroděje Mistra Tempuse\, strážce Časostroje.. Čeká vás zážitek plný překvapení\, světel a dobrodružných zastavení pro celou rodinu.
LOCATION:Oslavany
END:VEVENT
END:VCALENDAR