BEGIN:VCALENDAR
VERSION:2.0
CALSCALE:GREGORIAN
PRODID:-//MyApp//Calendar 1.0//EN
BEGIN:VEVENT
METHOD:PUBLISH
UID:56802@regionalniportaly.cz
DTSTAMP:20260426T000606Z
DTSTART;VALUE=DATE:20250814
DTEND;VALUE=DATE:20250831
SUMMARY:Letní kino v Ivančicích
DESCRIPTION:Letní kino se v plné síle vrátí od 14. 8. 2025 - a bude to rovnou dvojnásobná nálož! Promítat totiž bude vždy od čtvrtka až do neděle! Těšit se můžete na skvělý mix filmových hitů.  A nemusíte se bát - hlady vás nenecháme. K dispozici máme famózní čerstvý popcorn ve čtyřech příchutích\, nachos se sýrovou\, guacamole nebo barbecue omáčkou\, colu\, fantu\, birely\, ... Nebojíme se ani deště\, lavičky máme totiž zastřešené. Vezměte si deku a přijďte si užít filmové večery!  ČTVRTEK 14. 8. ve 20. 30 hodin KOUZLO DERBY  ČR | Komedie | Romantický | Sport | 120 min.\, 160 Kč  PÁTEK 15. 8. ve 20. 30 hodin | DŽOB  ČR | Komedie | Nezávislé pokračování komedie od T. Vorla - Vejška | 90 min.\, 150 Kč  SOBOTA 16. 8. ve 20. 30 hodin | DUCHOŇ  ČR | Slovensko | Hudební | Drama | Životopisný | Největší talent své generace | 90 min.\, 150 Kč  ČTVRTEK 21. 8. ve 20. 30 hodin | SBORMISTR  ČR | Drama | Podle skutečného příběhu | Výborné hodnocení na KVFF 2025 | 106 min.\, 150 Kč  PÁTEK 22. 8. ve 20. 30 hodin | SBORMISTR  ČR | Drama | Podle skutečného příběhu | Výborné hodnocení na KVFF 2025 | 106 min.\, 150 Kč  SOBOTA 23. 8. ve 20. 30 hodin | DUCHOŇ  ČR | Slovensko | Hudební | Drama | Životopisný | Největší talent své generace | 90 min.\, 150 Kč NEDĚLE 24. 8. ve 20. 30 hodin | DŽOB  ČR | Komedie | Nezávislé pokračování komedie od T. Vorla - Vejška | 90 min.\, 150 Kč  ČTVRTEK 28. 8. ve 20 hodin | POD PAROU  ČR | Komedie | Drama | 110 min.\, 150 Kč  PÁTEK 29. 8. ve 20 hodin | ČELISTI  USA | Thriller | 50 VÝROČÍ NATOČENÍ FILMU | Podle knižní předlohy | Dabing | 118 min.\, 130 Kč  SOBOTA 30. 8. ve 20 hodin | POD PAROU  ČR | Komedie | Drama | 110 min.\, 150 Kč  NEDĚLE 31. 8. ve 20 hodin | POD PAROU  ČR | Komedie | Drama | 110 min.\, 150 Kč 
LOCATION:Ivančice
END:VEVENT
END:VCALENDAR