BEGIN:VCALENDAR
VERSION:2.0
CALSCALE:GREGORIAN
PRODID:-//MyApp//Calendar 1.0//EN
BEGIN:VEVENT
METHOD:PUBLISH
UID:56968@regionalniportaly.cz
DTSTAMP:20260423T035252Z
DTSTART;VALUE=DATE:20250816
DTEND;VALUE=DATE:20250817
SUMMARY:Strach v Permonium / Únik z budoucnosti
DESCRIPTION:🌒 Strach v Permoniu 2025 – Únik z budoucnosti Noční týmová hra\, která prověří vaši odvahu i schopnost spolupracovat.\n🔦 Jedinečná příležitost navštívit Permonium® a Duhový svět v noci. Temná zákoutí\, světla\, zneklidňující zvuky… Společně se svým týmem projdete interaktivním příběhem\, kde nechybí napětí\, šifry ani živé hororové postavy.\n📍 Kdy a kde? • Sobota 16. 8. 2025 • Start hry ve 21:00 (areál otevřen od 19:30) • Permonium® – zábavní park s příběhem\, Padochovská 31\, Oslavany • Cena za tým (4 osoby): 1440 Kč\n🧩 Na co se těšit? • Noční atmosféra Permonia a Duhového světa  • Interaktivní hra Magic Permon 3. úroveň - dovednostní\, znalostní\, adrenalinové úkoly • Nová hororová mise „Únik z budoucnosti“ – šifry\, napětí\, živé postavy\n• Bonus: vítězný tým získá voucher na adrenalin na lanové aktivity\n⚠️ Určeno pro dospělé a odvážné teenagery. Omezená kapacita.\n 
LOCATION:Oslavany
END:VEVENT
END:VCALENDAR