BEGIN:VCALENDAR
VERSION:2.0
CALSCALE:GREGORIAN
PRODID:-//MyApp//Calendar 1.0//EN
BEGIN:VEVENT
METHOD:PUBLISH
UID:57368@regionalniportaly.cz
DTSTAMP:20260421T001203Z
DTSTART;VALUE=DATE:20250930
DTEND;VALUE=DATE:20251001
SUMMARY:Relaxační míčky
DESCRIPTION:RELAXAČNÍ VLNĚNÉ MÍČKY - úterý 30. září od 10.30 do 12.00 hodin\nPřijďte si užít společné tvoření a vyrobit relaxační míčky z ovčí vlny.\npro rodiče s dětmi 4+/ přihlášení do 26. 9. osobně v SVČ nebo přes rodinný účet
LOCATION:Ivančice
END:VEVENT
END:VCALENDAR