BEGIN:VCALENDAR
VERSION:2.0
CALSCALE:GREGORIAN
PRODID:-//MyApp//Calendar 1.0//EN
BEGIN:VEVENT
METHOD:PUBLISH
UID:57417@regionalniportaly.cz
DTSTAMP:20260421T001224Z
DTSTART;VALUE=DATE:20250912
DTEND;VALUE=DATE:20250913
SUMMARY:Tvořivá dílna pro rodiny s dětmi - Harry Potter
DESCRIPTION:
LOCATION:Němčičky
END:VEVENT
END:VCALENDAR