BEGIN:VCALENDAR
VERSION:2.0
CALSCALE:GREGORIAN
PRODID:-//MyApp//Calendar 1.0//EN
BEGIN:VEVENT
METHOD:PUBLISH
UID:57418@regionalniportaly.cz
DTSTAMP:20260421T020219Z
DTSTART;VALUE=DATE:20250925
DTEND;VALUE=DATE:20250926
SUMMARY:Mozkoherna pro seniory
DESCRIPTION:
LOCATION:Dolní Kounice
END:VEVENT
END:VCALENDAR