BEGIN:VCALENDAR
VERSION:2.0
CALSCALE:GREGORIAN
PRODID:-//MyApp//Calendar 1.0//EN
BEGIN:VEVENT
METHOD:PUBLISH
UID:57420@regionalniportaly.cz
DTSTAMP:20260421T001357Z
DTSTART;VALUE=DATE:20251001
DTEND;VALUE=DATE:20251002
SUMMARY:Setkání seniorů s kapelou Karel Gott revival Morava
DESCRIPTION:
LOCATION:Ivančice
END:VEVENT
END:VCALENDAR