BEGIN:VCALENDAR
VERSION:2.0
CALSCALE:GREGORIAN
PRODID:-//MyApp//Calendar 1.0//EN
BEGIN:VEVENT
METHOD:PUBLISH
UID:57421@regionalniportaly.cz
DTSTAMP:20260421T001131Z
DTSTART;VALUE=DATE:20250909
DTEND;VALUE=DATE:20250930
SUMMARY:Cvičení pro seniory Senorady
DESCRIPTION:
LOCATION:Senorady
END:VEVENT
END:VCALENDAR