BEGIN:VCALENDAR
VERSION:2.0
CALSCALE:GREGORIAN
PRODID:-//MyApp//Calendar 1.0//EN
BEGIN:VEVENT
METHOD:PUBLISH
UID:57555@regionalniportaly.cz
DTSTAMP:20260421T001234Z
DTSTART;VALUE=DATE:20250926
DTEND;VALUE=DATE:20250927
SUMMARY:Tvořivá dílna pro seniory a handicapované - Tečkované mandaly
DESCRIPTION:
LOCATION:Pravlov
END:VEVENT
END:VCALENDAR