BEGIN:VCALENDAR
VERSION:2.0
CALSCALE:GREGORIAN
PRODID:-//MyApp//Calendar 1.0//EN
BEGIN:VEVENT
METHOD:PUBLISH
UID:57662@regionalniportaly.cz
DTSTAMP:20260421T001325Z
DTSTART;VALUE=DATE:20251025
DTEND;VALUE=DATE:20251026
SUMMARY:Strašidelný zámek Dolní Kounice
DESCRIPTION:Zažijte strašidelný večer na Hradě a zámku v Dolních Kounicích.\nNa nádvoří vás budou v sobotu 25. října čekat stanoviště pro děti od 15:00 do 19:00 hod. Hlavní program strašidelná stezka zámkem bude probíhat v době od 16:00 do 21:00 hod.\nLístky si můžete zakoupit online. Cena je jednotná 120 Kč/osoba. Vstupenky jsou rozděleny do dvaceti minutových oken\, v tomto čase budete vyzvání ke kontrole lístků a budete rozřazeni do menších skupinek a po pár minutách vpuštěni do Hradu a zámku Dolní Kounice abyste si akci užili v co nejmenším počtu lidí a vychutnali si strasidelnou atmosféru naplno.\nDědi do 10 let věku s doprovodem rodičů. \nObčerstvit se můžete na stánku. \nParkovat může na louce u hradu zcela zdarma.
LOCATION:Dolní Kounice
END:VEVENT
END:VCALENDAR