BEGIN:VCALENDAR
VERSION:2.0
CALSCALE:GREGORIAN
PRODID:-//MyApp//Calendar 1.0//EN
BEGIN:VEVENT
METHOD:PUBLISH
UID:57750@regionalniportaly.cz
DTSTAMP:20260421T001141Z
DTSTART;VALUE=DATE:20251003
DTEND;VALUE=DATE:20251030
SUMMARY:40 let provozu Jaderné elektrárny Dukovany - výstava v Ivančicích
DESCRIPTION:40 let provozu Jaderné elektrárny Dukovany\nVýstava mapující historii provozu dukovanské elektrárny\, a to nejen výstavbu a modernizaci elektrárny\, ale také život zaměstnanců a dukovanského regionu.\nDvacet oboustranných panelů s velkoformátovými fotografiemi mapuje významné milníky čtyřicetiletého provozu JE Dukovan. K vidění jsou záběry z výstavby elektrárny\, zavážení prvního paliva do reaktoru\, pohled na palivové soubory nebo třeba i výměna generátoru. Kromě technických zajímavostí\, ale najdou na prezentačních plochách návštěvníci také například energetiky při tréninku řešení situací black-outu nebo první ženu – operátorku jaderného bloku. Nesmí chybět ani důležitá podpora regionu a aktivity jako například první svatba v infocentru nebo sklizeň jaderného vína. Součástí je také pohled na fotovoltaickou elektrárnu\, která je součástí JE Dukovany a slouží také jako parkoviště s dobíjecími stanicemi pro elektroauta i tajemný pohled na elektrárnu za noci.\n3. - 30. 10. 2025 | Palackého náměstí Ivančice
LOCATION:Ivančice
END:VEVENT
END:VCALENDAR