BEGIN:VCALENDAR
VERSION:2.0
CALSCALE:GREGORIAN
PRODID:-//MyApp//Calendar 1.0//EN
BEGIN:VEVENT
METHOD:PUBLISH
UID:57751@regionalniportaly.cz
DTSTAMP:20260425T202121Z
DTSTART;VALUE=DATE:20251206
DTEND;VALUE=DATE:20251207
SUMMARY:Dámská šatna
DESCRIPTION:Dámská šatna | Divadelní spolek bratří Mrštíků Boleradice\nDivadlo o divadle - komedie z pera Arnošta Goldflama.\nPodle zkušeností autora je dámská šatna tou nejdůležitější místností v divadle. V dámské šatně se totiž řeší vše podstatné i nepodstatné: od poměrů v divadle přes zákony hereckého řemesla až po soukromý život. V Goldflamově hře můžete do jedné takové dámské šatny zavítat a prožít se čtyřmi regionálními herečkami nervózní období čekání na obsazení\, vzrušující premiéry i každodenní rutinu repríz\, ale především jejich na jednu stranu obyčejné\, ovšem na druhou stranu zcela neobyčejné životy. Ve čtyřech generačních rovinách tak lze paralelně sledovat často provázané osobní i profesní problémy\, se kterými se představitelky potýkají.\n6. 12. 2025 v 19.00 | Kino Réna Ivančice\nVstupné 150 Kč. Online předprodej od 14. 9. 2025 od 20.00 na www.kic.ivancice.cz. Osobní předprodej od 15. 9. 2025 od 9.00 v KIC Ivančice.
LOCATION:Ivančice
END:VEVENT
END:VCALENDAR