BEGIN:VCALENDAR
VERSION:2.0
CALSCALE:GREGORIAN
PRODID:-//MyApp//Calendar 1.0//EN
BEGIN:VEVENT
METHOD:PUBLISH
UID:58420@regionalniportaly.cz
DTSTAMP:20260425T220038Z
DTSTART;VALUE=DATE:20260206
DTEND;VALUE=DATE:20260207
SUMMARY:Blázinec - hororová divadelní komedie
DESCRIPTION:Blázinec - hororová divadelní komedie\n6. 2. 2026 v 19.00 | Kino Réna Ivančice\nInscenace BLÁZINEC Jaroslava Gillara je napínavou groteskou o světě\, ve kterém se vlády zmocní blázni z jednoho psychiatrického ústavu. Téma ovládnutí společnosti šílencem je bohužel stále aktuální. Nečekané zvraty a konflikty jsou doprovázeny bláznivými situacemi\, které jako by vypadly z němého filmu. Inscenace pracuje s poetikou absurdního divadla\, monodramatu a hororové grotesky.\nHra je inspirována mimo jiné motivy z povídek E. A. Poea\, speciálně pak jednou: „Metoda doktora Téra a profesora Péra“. Sugestivní scény strachu a hrůzy jsou protkány typickým Poeovským humorem\, lehce absurdním\, suchým a specificky černým. Tyto ingredience spolu s barvitým projevem jediného interpreta Miroslava Táborského\, který zde ztvární 15 postav\, vytvářejí pro diváka velký jevištní zážitek.\nHraje (ve všech rolích): Miroslav Táborský\nVstupné 300 Kč. Online předprodej od 5. 10. 2025 od 20.00 na www.kic.ivancice.cz\, osobní předprodej od 6. 10. 2025 od 9.00 v KIC Ivančice.
LOCATION:Ivančice
END:VEVENT
END:VCALENDAR