BEGIN:VCALENDAR
VERSION:2.0
CALSCALE:GREGORIAN
PRODID:-//MyApp//Calendar 1.0//EN
BEGIN:VEVENT
METHOD:PUBLISH
UID:58422@regionalniportaly.cz
DTSTAMP:20260425T150018Z
DTSTART;VALUE=DATE:20260324
DTEND;VALUE=DATE:20260325
SUMMARY:Duchem proti své vůli - divadelní komedie
DESCRIPTION:Duchem proti své vůli - divadelní komedie\n24. 3. 2026 v 19.00 | Kino Réna Ivančice\nBylo úmrtí slavné herečky přirozené\, nebo to byla vražda? Straší její duch opravdu\, nebo jen nevěrnému manželovi straší "ve věži"? Přibude ještě další oběť? A bude zlo potrestáno\, jako v každé dobré pohádce?\nOdpovědi se dozvíte v nové\, tentokrát duchařské detektivní bláznivé komedii Fanny agentury − opět z pera Jakuba Zindulky.\nHrají: Dana Homolová\, Jaromír Nosek\, Ivana Jirešová\, Jakub Zindulka\nVstupné 350 Kč. Online předprodej od 5. 10. 2025 od 20.00 na www.kic.ivancice.cz\, osobní předprodej od 6. 10. 2025 od 9.00 v KIC Ivančice.
LOCATION:Ivančice
END:VEVENT
END:VCALENDAR