BEGIN:VCALENDAR
VERSION:2.0
CALSCALE:GREGORIAN
PRODID:-//MyApp//Calendar 1.0//EN
BEGIN:VEVENT
METHOD:PUBLISH
UID:58704@regionalniportaly.cz
DTSTAMP:20260425T202159Z
DTSTART;VALUE=DATE:20251215
DTEND;VALUE=DATE:20251216
SUMMARY:Vánoční koncert - Adéla Rausová
DESCRIPTION:Vánoční koncert - Adéla Rausová\n15. 12. 2025 v 19.00 | Kino Réna Ivančice\nHost: Pěvecký sbor Mušky\nZveme vás na Vánoční koncert zpěvačky Adély Rausové\, který pohladí duši a navodí sváteční atmosféru. V podání oblíbené ivančické interpretky zazní známé (nejen vánoční) melodie\, doplněné její osobitou energií a citem pro hudbu. Nechte se unést kouzlem adventního času a prožijte společně chvíle radosti\, klidu a pohody.\nVstupné 200 Kč. Online předprodej od 5. 10. 2025 od 20.00 na www.kic.ivancice.cz\, osobní předprodej od 6. 10. 2025 od 9.00 v KIC Ivančice.
LOCATION:Ivančice
END:VEVENT
END:VCALENDAR