BEGIN:VCALENDAR
VERSION:2.0
CALSCALE:GREGORIAN
PRODID:-//MyApp//Calendar 1.0//EN
BEGIN:VEVENT
METHOD:PUBLISH
UID:59440@regionalniportaly.cz
DTSTAMP:20260421T153239Z
DTSTART;VALUE=DATE:20260314
DTEND;VALUE=DATE:20260315
SUMMARY:Lov na losa
DESCRIPTION:Čerstvě vystudovaní mladí pružní lidé - Eliza a Konrád - na první pohled zamilovaný pár plný oddanosti a porozumění. Tedy až do onoho večera\, kdy se chystají oficiálně oznámit své zásnuby Eliziným rodičům - zdánlivě despotickému Romualdovi a ne-tak-úplně-oběti jménem Myška. Na zvonek ovšem zazvoní Jára\, Elizin terapeut. Přesněji řečeno její první terapeut.\nPonořte se do koloběhu traumat normální rodiny. Zásnuby proběhnou\, ale za jakou cenu? Lov na losa se zvrtne a vy se budete smát.
LOCATION:Dolní Kounice
END:VEVENT
END:VCALENDAR