BEGIN:VCALENDAR
VERSION:2.0
CALSCALE:GREGORIAN
PRODID:-//MyApp//Calendar 1.0//EN
BEGIN:VEVENT
METHOD:PUBLISH
UID:59461@regionalniportaly.cz
DTSTAMP:20260426T011837Z
DTSTART;VALUE=DATE:20251126
DTEND;VALUE=DATE:20251127
SUMMARY:Networking Coffee & Tea - Blogové články s Markétou Mrkvovou
DESCRIPTION:Networking coffee &amp\; tea jsou inspirativní setkání pro dospělé i dospělé s dětmi.Host: Markéta Lillien Mrkvová\, copywriterka a networkerka\, milovnice kávy\, lukostřelby a Tolkiena. Na networkingu nám představí své téma - Blogové články. Dozvíte se\, jak budovat značku pomocí blogu a kdy při jeho psaní použít chatGPT.Networking začíná v 9:30\, scházet se je možné od 9:00.Sejdeme se v bistru Blbý vařečky v Ivančicích.Program:09:00 - 09:30 - příchod09:30 - 10:00 - představení všech účastníků networkingu10:00 - 11:00 - Markéta Mrkvová - Blogové články11:00 - 11:30 - volný networking\, rozloučeníTěší se na vás Kačka Eichi Bilíková\, Lucie Bulová a Markéta Mrkvová
LOCATION:Ivančice
END:VEVENT
END:VCALENDAR