BEGIN:VCALENDAR
VERSION:2.0
CALSCALE:GREGORIAN
PRODID:-//MyApp//Calendar 1.0//EN
BEGIN:VEVENT
METHOD:PUBLISH
UID:59979@regionalniportaly.cz
DTSTAMP:20260426T002649Z
DTSTART;VALUE=DATE:20260106
DTEND;VALUE=DATE:20260107
SUMMARY:Koncert dechového kvintetu Filharmonie Brno
DESCRIPTION:Koncert dechového kvintetu Filharmonie Brno\nSlavnostní znovuotevření velkého sálu Besedního domu po restaurátorských pracích.\n6. 1. 2026 v 19.00 | Besední dům Ivančice\nVstupné 150 Kč. Online předprodej od 9. 11. 2025 od 20.00 na www.kic.ivancice.cz. Osobní předprodej od 10. 11. 2025 od 9.00 v KIC Ivančice.
LOCATION:Ivančice
END:VEVENT
END:VCALENDAR