BEGIN:VCALENDAR
VERSION:2.0
CALSCALE:GREGORIAN
PRODID:-//MyApp//Calendar 1.0//EN
BEGIN:VEVENT
METHOD:PUBLISH
UID:59980@regionalniportaly.cz
DTSTAMP:20260425T162630Z
DTSTART;VALUE=DATE:20260116
DTEND;VALUE=DATE:20260117
SUMMARY:Novoroční jazzový koncert
DESCRIPTION:Novoroční jazzový koncert - Vítězslav Hándl Jazz Quartet\n16. 1. 2026 v 19.00 | Galerie Památníku A. Muchy Ivančice\nPřijďte si vychutnat jedinečnou atmosféru novoročního večera plného špičkového jazzu! Vítězslav Hándl Jazz Quartet představí repertoár\, který propojuje klasické jazzové kořeny s moderním zvukem a osobitými improvizacemi. Těšte se na mimořádný hudební zážitek v podání skvělých muzikantů\, kteří vám svým vystoupením vykouzlí ten pravý začátek nového roku.\nVstupné 150 Kč. Online předprodej od 9. 11. 2025 od 20.00 na www.kic.ivancice.cz. Osobní předprodej od 10. 11. 2025 od 9.00 v KIC Ivančice.
LOCATION:Ivančice
END:VEVENT
END:VCALENDAR