BEGIN:VCALENDAR
VERSION:2.0
CALSCALE:GREGORIAN
PRODID:-//MyApp//Calendar 1.0//EN
BEGIN:VEVENT
METHOD:PUBLISH
UID:60320@regionalniportaly.cz
DTSTAMP:20260425T222413Z
DTSTART;VALUE=DATE:20260121
DTEND;VALUE=DATE:20260122
SUMMARY:Zimní kvíz 2026 v Ivančicích
DESCRIPTION:Zimní kvíz 2026\n21. 1. 2026 od 19.00 | Besední dům Ivančice\nHospodský kvíz se vrací do Besedního domu! Prověřte své znalosti\, užijte si zábavu s přáteli a zasoutěžte si proti ostatním týmům.\nSestavte tým a přijďte si zasoutěžit!\nTým musí mít 2-6 členů a také svůj název. Startovné činí 100 Kč/osoba.\nMožnosti přihlášení a platby:\n- osobně v KIC Ivančice\n- online na stránkách www.kic.ivancice.cz - v tomto případě je nutné zaslat email na kic.ivancice@seznam.cz s názvem týmu a počtem členů týmu\nPřihlašování a platba budou možné od 19. 11. 2025 do 14. 1. 2026 nebo do vyčerpání kapacity.\nVýhra pro vítěze zajištěna.\nV průběhu kvízu bude možnost zakoupit drobné občerstvení.
LOCATION:Ivančice
END:VEVENT
END:VCALENDAR