BEGIN:VCALENDAR
VERSION:2.0
CALSCALE:GREGORIAN
PRODID:-//MyApp//Calendar 1.0//EN
BEGIN:VEVENT
METHOD:PUBLISH
UID:60321@regionalniportaly.cz
DTSTAMP:20260425T162610Z
DTSTART;VALUE=DATE:20260128
DTEND;VALUE=DATE:20260129
SUMMARY:ZMĚNA TERMÍNU! České podsvětí: Jak jsem přežil devadesátky - Beseda s Josefem Klímou
DESCRIPTION:POZOR - ZMĚNA TERMÍNU! BESEDA PROBĚHNE VE STŘEDU 28. 1. 2026!!! Vstupenky zakoupené na původní termín úterý 27. 1. 2026 zůstávají v platnosti\, případné vrácení vstupenek řešte prosím v KIC Ivančice.\n \nČeské podsvětí: Jak jsem přežil devadesátky - Beseda s Josefem Klímou\nSTŘEDA 28. 1. 2026 v 19.00 | Kino Réna Ivančice\nAutor populárního podcastu „České podsvětí“\, zakladatel investigativní žurnalistiky u nás Josef Klíma vypráví o divokých „devadesátkách“\, o tom\, jak se setkával s tehdejšími mocnými mafiány\, od Jonáka až po Krejčíře\, jak nebezpečné tehdy bylo být novinářem\, ale i tom\, jak se zločin mezitím proměnil a co hrozí dnešním mladým lidem. Odpovídá na otázky diváků\, které se mj. týkají i populárního seriálu „Sedm schodů k moci“ (TV Prima)\, k němuž ho jako scénáristu volně inspiroval případ Nagyová-Nečas.\nVstupné 160 Kč.  Online předprodej od 23. 11. 2025 od 20.00 na www.kic.ivancice.cz. Osobní předprodej od 24. 11. 2025 od 9.00 v KIC Ivančice.
LOCATION:Ivančice
END:VEVENT
END:VCALENDAR