BEGIN:VCALENDAR
VERSION:2.0
CALSCALE:GREGORIAN
PRODID:-//MyApp//Calendar 1.0//EN
BEGIN:VEVENT
METHOD:PUBLISH
UID:61703@regionalniportaly.cz
DTSTAMP:20260425T204159Z
DTSTART;VALUE=DATE:20260125
DTEND;VALUE=DATE:20260126
SUMMARY:O začarovaném mlýně - divadlo pro děti
DESCRIPTION:O začarovaném mlýně - Divadýlko Mrak\n25. 1. 2026 v 15:00 | Kino Réna Ivančice\nA jak to v pohádkách chodí. Baruška zůstala ve svém rodném domě se svojí nevlastní matkou\, řečenou Hromaska i s její dcerou\, nevlastní sestrou Dorou sestrou sama. Ani maceška ani nevlastní sestra dobrotou neoplývají\, Časem si z Barušky udělají služku\, kuchařku i uklízečku. Jediným přítem je pro Barušku krysák Matěj\, který bydli v podzemních cestičkách u domu\, jenže ten hledá spřízněnou krysí slečnu\, aby založil rodinu. Paňmáma Hromasová\, ale pro svoji dceru hledá ženicha\, a tak za vidinou bohatého věna pro svoji Doru\, pošle Barušku přespat do začarovaného mlýna\, ve kterém každou noc straší.  Odtamtud se ještě nikdy nikdo nevrátil živí\, ale podle pověstí - kdo se odtamtud jednou vrátí\, zůstane boháčem.\nKrysák Matěj \, ale svoji spřízněnou dušičku Barušku nenechá jít samotnou\, a tak se s ní vypraví do mlýna...\nA co se stane ve mlýně? Kdo koho potká? Přežije Baruška noc s čertem? A kdo skončí v pekle?  \nVstupné 150 Kč. Online předprodej od 7. 1. 2026 od 20:00 na www.kic.ivancice.cz. Osobní předprodej od 8. 1. 2026 od 9:00 v KIC Ivančice.
LOCATION:Ivančice
END:VEVENT
END:VCALENDAR