BEGIN:VCALENDAR
VERSION:2.0
CALSCALE:GREGORIAN
PRODID:-//MyApp//Calendar 1.0//EN
BEGIN:VEVENT
METHOD:PUBLISH
UID:63318@regionalniportaly.cz
DTSTAMP:20260425T194039Z
DTSTART;VALUE=DATE:20260313
DTEND;VALUE=DATE:20260314
SUMMARY:Otužování 2.0 - tělo\, mysl a disciplína - Petr Málek
DESCRIPTION:Otužování 2.0 - tělo\, mysl a disciplína - Petr Málek\n12. 3. 2026 v 19:00 | Památník A. Muchy Ivančice\nJak tělo reaguje na stres a chlad\nJak posilovat psychickou odolnost a vnitřní klid\nJak pracovat s myslí\, když přijde tlak nebo strach\nProč je disciplína důležitější než motivace\nJak být silnější - ne vůči světu\, ale vůči sobě\nVstupné 80 Kč. Online předprodej od 15. 2. 2026 od 20:00 na www.kic.ivancice.cz. Osobní předprodej od 16. 2. 2026 od 9:00 v KIC Ivančice.\n 
LOCATION:Ivančice
END:VEVENT
END:VCALENDAR