BEGIN:VCALENDAR
VERSION:2.0
CALSCALE:GREGORIAN
PRODID:-//MyApp//Calendar 1.0//EN
BEGIN:VEVENT
METHOD:PUBLISH
UID:63354@regionalniportaly.cz
DTSTAMP:20260422T113624Z
DTSTART;VALUE=DATE:20260216
DTEND;VALUE=DATE:20260222
SUMMARY:Jarní prázdniny v Permoništi
DESCRIPTION:Co podniknout s dětmi o víkendu nebo během jarních prázdnin? Máme tip pro všechny rodiče malých dobrodruhů od 3 do 8 let.\nVyrazte do vnitřního parku Permoniště v Oslavanech a užijte si společné dobrodružství plné objevování a pohybu.\nČeká vás interaktivní hra Baby Permon\, kde:\n✨ zachráníte Permínka z Temnosvěta čaroděje Černoboha 🌈 v Barvosvětě víly Permíny objevíte svět lidí – techniku\, přírodu i různá povolání a řemesla 🧗‍♂️ vyzkoušíte pohybovadla\, lezecké stěny i výstup na mrakodrap 🎯 splníte úkoly a získáte zaslouženou odměnu\n \nA tím to nekončí!\nSoučástí vstupenky je také vstup do těžní věže KUKLA s novou expozicí duchů – strážců energie 👻\nDobrodružství\, objevování a aktivní zábava pod jednou střechou. Ideální program i ve chvíli\, kdy venku nepřeje počasí 🌦\n \n📅 Otevřeno o víkendech i během jarních prázdnin (16.–20. 2. 2026) 🕙 10–18 hod. (vstup každé 2 hodiny) 🎟️ Kapacita je pro zachování komfortu omezená – doporučujeme vstupenky zakoupit předem online.\n👟 Tip: vezměte s sebou vlastní přezůvky\n📍 Oslavany\, Padochovská 31 (Brno-venkov)\nTěšíme se na vás! 
LOCATION:Oslavany
END:VEVENT
END:VCALENDAR