BEGIN:VCALENDAR
VERSION:2.0
CALSCALE:GREGORIAN
PRODID:-//MyApp//Calendar 1.0//EN
BEGIN:VEVENT
METHOD:PUBLISH
UID:64037@regionalniportaly.cz
DTSTAMP:20260421T021349Z
DTSTART;VALUE=DATE:20260516
DTEND;VALUE=DATE:20260517
SUMMARY:Noční prohlídka - Živobytí našich předků
DESCRIPTION:Zažijte neodolatelnou atmosféru nočního Hradu a zámku v Dolních Kounicích.Vydejte s námi do časů dávno minulých a poznejte život našich předků tak\, jak jej z filmů neznáte. Na okamžik se stanete hosty hradního pána a nahlédnete do všedních dnů obyvatel hradu.Jedna prohlídka trvá cca 45 minut.Cena vstupenky 180Kč na osobu.Parkování bude zdarma umožněno na louce u hradu od 18 hod.Adresa:Hrad a zámek Dolní KouniceZámecká 1a\, 664 64 Dolní Kounice
LOCATION:Dolní Kounice
END:VEVENT
END:VCALENDAR