BEGIN:VCALENDAR
VERSION:2.0
CALSCALE:GREGORIAN
PRODID:-//MyApp//Calendar 1.0//EN
BEGIN:VEVENT
METHOD:PUBLISH
UID:64043@regionalniportaly.cz
DTSTAMP:20260421T082754Z
DTSTART;VALUE=DATE:20260403
DTEND;VALUE=DATE:20260525
SUMMARY:Výstava M. Vašíčkové v dolnokounické synagoze
DESCRIPTION:
LOCATION:Dolní Kounice
END:VEVENT
END:VCALENDAR