BEGIN:VCALENDAR
VERSION:2.0
CALSCALE:GREGORIAN
PRODID:-//MyApp//Calendar 1.0//EN
BEGIN:VEVENT
METHOD:PUBLISH
UID:64260@regionalniportaly.cz
DTSTAMP:20260425T143900Z
DTSTART;VALUE=DATE:20260313
DTEND;VALUE=DATE:20260314
SUMMARY:Přání k narozeninám: Křtiny
DESCRIPTION:Komedie o křtinách\, které se rozhodně nevyvíjejí podle plánu
LOCATION:Zbýšov
END:VEVENT
END:VCALENDAR