BEGIN:VCALENDAR
VERSION:2.0
CALSCALE:GREGORIAN
PRODID:-//MyApp//Calendar 1.0//EN
BEGIN:VEVENT
METHOD:PUBLISH
UID:65087@regionalniportaly.cz
DTSTAMP:20260425T130117Z
DTSTART;VALUE=DATE:20260402
DTEND;VALUE=DATE:20260403
SUMMARY:Super Mario galaktický film
DESCRIPTION:
LOCATION:Zbýšov
END:VEVENT
END:VCALENDAR