BEGIN:VCALENDAR
VERSION:2.0
CALSCALE:GREGORIAN
PRODID:-//MyApp//Calendar 1.0//EN
BEGIN:VEVENT
METHOD:PUBLISH
UID:65089@regionalniportaly.cz
DTSTAMP:20260425T143834Z
DTSTART;VALUE=DATE:20260402
DTEND;VALUE=DATE:20260403
SUMMARY:Někdo to rád v Plzni
DESCRIPTION:
LOCATION:Zbýšov
END:VEVENT
END:VCALENDAR