BEGIN:VCALENDAR
VERSION:2.0
CALSCALE:GREGORIAN
PRODID:-//MyApp//Calendar 1.0//EN
BEGIN:VEVENT
METHOD:PUBLISH
UID:65567@regionalniportaly.cz
DTSTAMP:20260420T082759Z
DTSTART;VALUE=DATE:20260515
DTEND;VALUE=DATE:20260516
SUMMARY:Den rodiny na Horizontu 2026
DESCRIPTION:DEN RODINY NA HORIZONTU - 15. května od 15.30 do 17.30 hodin\nPřijďte si užít odpoledne plné zábavy pro malé i velké! Vystoupení dětí ze skupin Sluníčko a Klubíčko\, Pojízdné planetárium Morava\, tvoření\, senzorické hraní\, stezka s úkoly a sportovní aktivity pro rodiny. Těšíme se na vás!\nObčerstvení\, cukrová vata. 150 Kč/ dítě\nSoučástí akce je soutěž „BÁBOVKOVÁ RODINNÁ VÝZVA“ o nejlepší bábovku.\ndo 13.5. přihlášení do soutěže o nejlepší bábovku (přes webové stránky nebo QR kód na plakátu)
LOCATION:Ivančice
END:VEVENT
END:VCALENDAR