BEGIN:VCALENDAR
VERSION:2.0
CALSCALE:GREGORIAN
PRODID:-//MyApp//Calendar 1.0//EN
BEGIN:VEVENT
METHOD:PUBLISH
UID:65569@regionalniportaly.cz
DTSTAMP:20260420T082812Z
DTSTART;VALUE=DATE:20260531
DTEND;VALUE=DATE:20260601
SUMMARY:Jdeme do finále Horizont mě baví
DESCRIPTION:JDEME DO FINÁLE - HORIZONT MĚ BAVÍ - neděle 31. května od 14.00 do 18.00 hodin\nfun zóna/ cirkusová zóna/ cash box game/ prezentace kroužků\nvstupné v dobrovolné výši// 250 Kč/zóny// 50 Kč/ cash box game
LOCATION:Ivančice
END:VEVENT
END:VCALENDAR