BEGIN:VCALENDAR
VERSION:2.0
CALSCALE:GREGORIAN
PRODID:-//MyApp//Calendar 1.0//EN
BEGIN:VEVENT
METHOD:PUBLISH
UID:65649@regionalniportaly.cz
DTSTAMP:20260419T124607Z
DTSTART;VALUE=DATE:20260704
DTEND;VALUE=DATE:20260705
SUMMARY:Jets over Czech Heaven
DESCRIPTION:Jets over Czech 2026&nbsp\;– Letecká show léta v Ivančicích!4. července 2026Modelářské letiště Czech Heaven - Ivančice - BudkoviceCelodenní program od 10:00 do podvečerních hodinZažijte den plný adrenalinu\, fascinujících výkonů a rodinné pohody na jedinečné letecké show Jets over Czech 2026! Na obloze se vystřídají špičkoví piloti\, modely proudových letadel a hlavně – světový šampion Martin Šonka\, který předvede své neuvěřitelné letecké umění přímo nad vašimi hlavami.⸻HOST– MARTIN ŠONKA!Red Bull Air Race šampion\, akrobatický pilot a bývalý vojenský stíhač se představí s dechberoucí leteckou akrobacií. Ostré přemety\, nízké průlety a precizní manévry – tohle není jen let\, to je adrenalinový zážitek!⸻Proudové modely jako ze stíhačkyUvidíte modely letadel s turbínovým pohonem\, které vypadají\, zní a létají jako skutečné stíhačky! Rychlost přes 400 km/h\, realistické zvuky\, manévrovací schopnosti a pilotáž na hranici možností. Letecký modelářský zážitek pro malé i velké fanoušky.⸻Program pro celou rodinuJets over Czech není jen pro nadšence do letadel – je to zábavný rodinný den\, kde si každý najde to své:&nbsp\;&nbsp\;&nbsp\;&nbsp\;•&nbsp\; &nbsp\; skákací hrady a atrakce pro děti&nbsp\;&nbsp\;&nbsp\;&nbsp\;•&nbsp\; &nbsp\; stánky s jídlem a nápoji&nbsp\;&nbsp\;&nbsp\;&nbsp\;•&nbsp\; &nbsp\; tematické stánky a suvenýry&nbsp\;&nbsp\;&nbsp\;&nbsp\;•&nbsp\; &nbsp\; celodenní moderovaný program&nbsp\; &nbsp\; •&nbsp\; &nbsp\; Old timer gallery - prohlídka automobilových veteránůa další.DO AREÁLU JE ZÁKAZ VSTUPU SE ZVÍŘATY.&nbsp\;⸻Nezapomeňte foťáky – a přijďte dřív\, ať máte dobré místo!Akce se koná pod širým nebem a je ideální i pro ty\, kteří chtějí spojit výlet s nezapomenutelným zážitkem. Ať už přijdete sami\, s partnerem\, nebo s celou rodinou – tahle show vás dostane.&nbsp\;Vstupenky jsou v předprodeji za sníženou cenu do 31.5. 2026.&nbsp\;Další vlna vstupného&nbsp\;je od 1.6. do 3.7.2026.V předprodeji koupíte i vstupenku za snížené vstupné pro dítě 10-17\,99 let. V den akce na místě jsou vstupenky jen základní\, tj. platí i pro děti nad 10 let.(děti 0-9\,99 let jsou v předprodeji i na místě zdarma).&nbsp\;V den konání akce koupíte vstupenky online i na místě za stejnou cenu.&nbsp\;V předprodeji koupíte i parkovací stání.&nbsp\;Zákaz vstupu se zvířaty.&nbsp\;Ubytovaní v tomto termínu si musí zakoupit vstupenky na akci taktéž.&nbsp\;⸻Další informace a program najdete na webu Czech Heaven.&nbsp\;Sledujte nás na sociálních sítích:&nbsp\;FacebookInstagram&nbsp\;
LOCATION:Ivančice
END:VEVENT
END:VCALENDAR